BEGIN:VCALENDAR
VERSION:2.0
PRODID:-//ADWAS: Abused Deaf Women&#039;s Advocacy Services - ECPv6.15.17.1//NONSGML v1.0//EN
CALSCALE:GREGORIAN
METHOD:PUBLISH
X-WR-CALNAME:ADWAS: Abused Deaf Women&#039;s Advocacy Services
X-ORIGINAL-URL:https://www.adwas.org
X-WR-CALDESC:Events for ADWAS: Abused Deaf Women&#039;s Advocacy Services
REFRESH-INTERVAL;VALUE=DURATION:PT1H
X-Robots-Tag:noindex
X-PUBLISHED-TTL:PT1H
BEGIN:VTIMEZONE
TZID:America/Los_Angeles
BEGIN:DAYLIGHT
TZOFFSETFROM:-0800
TZOFFSETTO:-0700
TZNAME:PDT
DTSTART:20190310T100000
END:DAYLIGHT
BEGIN:STANDARD
TZOFFSETFROM:-0700
TZOFFSETTO:-0800
TZNAME:PST
DTSTART:20191103T090000
END:STANDARD
BEGIN:DAYLIGHT
TZOFFSETFROM:-0800
TZOFFSETTO:-0700
TZNAME:PDT
DTSTART:20200308T100000
END:DAYLIGHT
BEGIN:STANDARD
TZOFFSETFROM:-0700
TZOFFSETTO:-0800
TZNAME:PST
DTSTART:20201101T090000
END:STANDARD
BEGIN:DAYLIGHT
TZOFFSETFROM:-0800
TZOFFSETTO:-0700
TZNAME:PDT
DTSTART:20210314T100000
END:DAYLIGHT
BEGIN:STANDARD
TZOFFSETFROM:-0700
TZOFFSETTO:-0800
TZNAME:PST
DTSTART:20211107T090000
END:STANDARD
BEGIN:DAYLIGHT
TZOFFSETFROM:-0800
TZOFFSETTO:-0700
TZNAME:PDT
DTSTART:20220313T100000
END:DAYLIGHT
BEGIN:STANDARD
TZOFFSETFROM:-0700
TZOFFSETTO:-0800
TZNAME:PST
DTSTART:20221106T090000
END:STANDARD
BEGIN:DAYLIGHT
TZOFFSETFROM:-0800
TZOFFSETTO:-0700
TZNAME:PDT
DTSTART:20230312T100000
END:DAYLIGHT
BEGIN:STANDARD
TZOFFSETFROM:-0700
TZOFFSETTO:-0800
TZNAME:PST
DTSTART:20231105T090000
END:STANDARD
END:VTIMEZONE
BEGIN:VEVENT
DTSTART;VALUE=DATE:20220704
DTEND;VALUE=DATE:20220705
DTSTAMP:20260420T035955
CREATED:20220202T013336Z
LAST-MODIFIED:20220202T013336Z
UID:4339-1656892800-1656979199@www.adwas.org
SUMMARY:CLOSED
DESCRIPTION:We are closed in observance of the 4th of July. \nIf you are in need of assistance\, please contact the National Deaf Hotline. \nLocal: 206-812-1001\nNational: 855-812-1001
URL:https://www.adwas.org/adwasevent/closed-13/
CATEGORIES:Office
END:VEVENT
BEGIN:VEVENT
DTSTART;VALUE=DATE:20220620
DTEND;VALUE=DATE:20220621
DTSTAMP:20260420T035955
CREATED:20220202T013251Z
LAST-MODIFIED:20220202T013251Z
UID:4337-1655683200-1655769599@www.adwas.org
SUMMARY:CLOSED
DESCRIPTION:We are closed in observance of Juneteenth. \nIf you are in need of assistance\, please contact the National Deaf Hotline. \nLocal: 206-812-1001\nNational: 855-812-1001
URL:https://www.adwas.org/adwasevent/closed-12/
CATEGORIES:Office
END:VEVENT
BEGIN:VEVENT
DTSTART;TZID=America/Los_Angeles:20220602T170000
DTEND;TZID=America/Los_Angeles:20220602T190000
DTSTAMP:20260420T035955
CREATED:20220522T235529Z
LAST-MODIFIED:20220522T235529Z
UID:4628-1654189200-1654196400@www.adwas.org
SUMMARY:Virtual Meet & Greet
DESCRIPTION:Join us for our Virtual Meet & Greet! This is a space to get to know one another. Come to learn more about ADWAS\, ask questions\, provide feedback\, or share connections! We will talk about our recent E-News as well as our Rebranding Survey. We welcome all to join us including BIPOC and LGBTQIA2S+. Voice interpretation and live captions will be provided. If you require other accommodations\, please send an email to adwas@adwas.org \nRegister here: https://us02web.zoom.us/meeting/register/tZYudeyqqjkqHNxfq5jGpj5k4V_cvy4bf9Gs
URL:https://www.adwas.org/adwasevent/june-meetgreet/
LOCATION:Zoom
ORGANIZER;CN="ADWAS":MAILTO:adwas@adwas.org
END:VEVENT
BEGIN:VEVENT
DTSTART;VALUE=DATE:20220530
DTEND;VALUE=DATE:20220531
DTSTAMP:20260420T035955
CREATED:20220202T013144Z
LAST-MODIFIED:20220202T013144Z
UID:4335-1653868800-1653955199@www.adwas.org
SUMMARY:CLOSED
DESCRIPTION:We are closed in observance of Memorial Day. \nIf you are in need of assistance\, please contact the National Deaf Hotline. \nLocal: 206-812-1001\nNational: 855-812-1001
URL:https://www.adwas.org/adwasevent/closed-11/
CATEGORIES:Office
END:VEVENT
BEGIN:VEVENT
DTSTART;TZID=America/Los_Angeles:20220411T160000
DTEND;TZID=America/Los_Angeles:20220411T180000
DTSTAMP:20260420T035955
CREATED:20220406T215935Z
LAST-MODIFIED:20220406T215935Z
UID:4539-1649692800-1649700000@www.adwas.org
SUMMARY:Vaccination Clinic
DESCRIPTION:
URL:https://www.adwas.org/adwasevent/vaccination-clinic/
LOCATION:ADWAS\, 8623 Roosevelt Way NE\, Seattle\, WA\, 98115\, United States
ORGANIZER;CN="ADWAS":MAILTO:adwas@adwas.org
END:VEVENT
BEGIN:VEVENT
DTSTART;TZID=America/Los_Angeles:20220325T100000
DTEND;TZID=America/Los_Angeles:20220325T110000
DTSTAMP:20260420T035955
CREATED:20220202T012447Z
LAST-MODIFIED:20220211T191512Z
UID:4328-1648202400-1648206000@www.adwas.org
SUMMARY:Pathway to Healing: A Benefit to Support Survivors
DESCRIPTION:Join us in this special celebration\, taking place on ADWAS’ 36th Anniversary\, to light the Pathway to Healing for Survivors and their families. \nThis free event is a benefit for Survivors which will include Keynote Speaker\, Sarah Young Bear-Brown\, the announcement of 2022’s Marilyn J. Smith Award Recipient\, and a special invitation to commit to fight against racism\, promote equity\, and social justice. \nRegister for free by clicking here!
URL:https://www.adwas.org/adwasevent/pathway-to-healing-a-benefit-to-support-survivors/
LOCATION:Zoom
CATEGORIES:Fundraisers
ORGANIZER;CN="ADWAS":MAILTO:adwas@adwas.org
END:VEVENT
BEGIN:VEVENT
DTSTART;VALUE=DATE:20220221
DTEND;VALUE=DATE:20220222
DTSTAMP:20260420T035955
CREATED:20220202T013101Z
LAST-MODIFIED:20220202T013101Z
UID:4333-1645401600-1645487999@www.adwas.org
SUMMARY:CLOSED
DESCRIPTION:We are closed in observance of President’s Day. \nIf you are in need of assistance\, please contact the National Deaf Hotline. \nLocal: 206-812-1001\nNational: 855-812-1001
URL:https://www.adwas.org/adwasevent/closed-10/
CATEGORIES:Office
END:VEVENT
BEGIN:VEVENT
DTSTART;VALUE=DATE:20220117
DTEND;VALUE=DATE:20220118
DTSTAMP:20260420T035955
CREATED:20220202T012837Z
LAST-MODIFIED:20220202T013004Z
UID:4330-1642377600-1642463999@www.adwas.org
SUMMARY:CLOSED
DESCRIPTION:We are closed in observance of Martin Luther King Jr. Day. \nIf you are in need of assistance\, please contact the National Deaf Hotline. \nLocal: 206-812-1001\nNational: 855-812-1001
URL:https://www.adwas.org/adwasevent/closed-9/
CATEGORIES:Office
END:VEVENT
BEGIN:VEVENT
DTSTART;VALUE=DATE:20211231
DTEND;VALUE=DATE:20220101
DTSTAMP:20260420T035955
CREATED:20210615T233638Z
LAST-MODIFIED:20210615T233638Z
UID:4038-1640908800-1640995199@www.adwas.org
SUMMARY:CLOSED
DESCRIPTION:We are closed on Friday\, December 31\, 2021 in observance of New Year’s Day. \nIf you are in need of assistance\, please contact the National Deaf Hotline. \nLocal: 206-812-1001\nNational: 855-812-1001
URL:https://www.adwas.org/adwasevent/closed-8/
END:VEVENT
BEGIN:VEVENT
DTSTART;VALUE=DATE:20211224
DTEND;VALUE=DATE:20211225
DTSTAMP:20260420T035955
CREATED:20210615T233544Z
LAST-MODIFIED:20210615T233544Z
UID:4036-1640304000-1640390399@www.adwas.org
SUMMARY:CLOSED
DESCRIPTION:We are closed on Friday\, December 24\, 2021 in observance of the Winter Holiday. \nIf you are in need of assistance\, please contact the National Deaf Hotline. \nLocal: 206-812-1001\nNational: 855-812-1001
URL:https://www.adwas.org/adwasevent/closed-7/
ORGANIZER;CN="ADWAS":MAILTO:adwas@adwas.org
END:VEVENT
BEGIN:VEVENT
DTSTART;VALUE=DATE:20211125
DTEND;VALUE=DATE:20211126
DTSTAMP:20260420T035955
CREATED:20210615T233451Z
LAST-MODIFIED:20210615T233451Z
UID:4034-1637798400-1637884799@www.adwas.org
SUMMARY:CLOSED
DESCRIPTION:We are closed on Thursday\, November 25\, 2021 in observance of Thanksgiving Day. \nIf you are in need of assistance\, please contact the National Deaf Hotline. \nLocal: 206-812-1001\nNational: 855-812-1001
URL:https://www.adwas.org/adwasevent/closed-6/
ORGANIZER;CN="ADWAS":MAILTO:adwas@adwas.org
END:VEVENT
BEGIN:VEVENT
DTSTART;VALUE=DATE:20211111
DTEND;VALUE=DATE:20211112
DTSTAMP:20260420T035955
CREATED:20210615T233354Z
LAST-MODIFIED:20210615T233354Z
UID:4032-1636588800-1636675199@www.adwas.org
SUMMARY:CLOSED
DESCRIPTION:We are closed on Thursday\, November 11\, 2021 in observance of Veterans Day. \nIf you are in need of assistance\, please contact the National Deaf Hotline. \nLocal: 206-812-1001\nNational: 855-812-1001
URL:https://www.adwas.org/adwasevent/closed-5/
ORGANIZER;CN="ADWAS":MAILTO:adwas@adwas.org
END:VEVENT
BEGIN:VEVENT
DTSTART;TZID=America/Los_Angeles:20211106T170000
DTEND;TZID=America/Los_Angeles:20211106T220000
DTSTAMP:20260420T035955
CREATED:20210721T222159Z
LAST-MODIFIED:20210928T222456Z
UID:4064-1636218000-1636236000@www.adwas.org
SUMMARY:Hope & Justice Gala
DESCRIPTION:
URL:https://www.adwas.org/adwasevent/hope-justice-gala-2/
LOCATION:Daybreak Star Indian Cultural Center\, 5011 Bernie Whitebear Way\, Seattle\, WA\, 98199
END:VEVENT
BEGIN:VEVENT
DTSTART;VALUE=DATE:20211011
DTEND;VALUE=DATE:20211012
DTSTAMP:20260420T035955
CREATED:20210615T233212Z
LAST-MODIFIED:20210615T233212Z
UID:4030-1633910400-1633996799@www.adwas.org
SUMMARY:CLOSED
DESCRIPTION:We are closed on Monday\, October 11\, 2021 in observance of Indigenous Peoples’ Day. \nIf you are in need of assistance\, please contact the National Deaf Hotline. \nLocal: 206-812-1001\nNational: 855-812-1001
URL:https://www.adwas.org/adwasevent/closed-4/
ORGANIZER;CN="ADWAS":MAILTO:adwas@adwas.org
END:VEVENT
BEGIN:VEVENT
DTSTART;TZID=America/Los_Angeles:20210923T173000
DTEND;TZID=America/Los_Angeles:20210923T183000
DTSTAMP:20260420T035955
CREATED:20210916T163800Z
LAST-MODIFIED:20210916T163800Z
UID:4108-1632418200-1632421800@www.adwas.org
SUMMARY:Seattle Children's Theatre: Meet & Greet
DESCRIPTION:
URL:https://www.adwas.org/adwasevent/seattle-childrens-theatre-meet-greet/
LOCATION:Zoom
ORGANIZER;CN="Nancy Edney":MAILTO:childrensadvocate@adwas.org
END:VEVENT
BEGIN:VEVENT
DTSTART;TZID=America/Los_Angeles:20210921T170000
DTEND;TZID=America/Los_Angeles:20210921T190000
DTSTAMP:20260420T035955
CREATED:20210916T164220Z
LAST-MODIFIED:20210916T164220Z
UID:4116-1632243600-1632250800@www.adwas.org
SUMMARY:CHILL: Fall Skate Program
DESCRIPTION:
URL:https://www.adwas.org/adwasevent/chill-fall-skate-program/
LOCATION:All Together Skatepark\, 3500 Stone Way N\, Seattle\, WA\, 98103
END:VEVENT
BEGIN:VEVENT
DTSTART;VALUE=DATE:20210906
DTEND;VALUE=DATE:20210907
DTSTAMP:20260420T035955
CREATED:20210615T233040Z
LAST-MODIFIED:20210615T233040Z
UID:4026-1630886400-1630972799@www.adwas.org
SUMMARY:CLOSED
DESCRIPTION:We are closed on Monday\, September 6\, 2021 in observance of Labor Day. \nIf you are in need of assistance\, please contact the National Deaf Hotline. \nLocal: 206-812-1001\nNational: 855-812-1001
URL:https://www.adwas.org/adwasevent/closed-3/
ORGANIZER;CN="ADWAS":MAILTO:adwas@adwas.org
END:VEVENT
BEGIN:VEVENT
DTSTART;TZID=America/Los_Angeles:20210814T100000
DTEND;TZID=America/Los_Angeles:20210814T140000
DTSTAMP:20260420T035955
CREATED:20210721T221220Z
LAST-MODIFIED:20210721T221220Z
UID:4059-1628935200-1628949600@www.adwas.org
SUMMARY:Community Appreciation Day
DESCRIPTION:Contact us with any questions or accessibility needs: \nadwas@adwas.org // 206-922-7088
URL:https://www.adwas.org/adwasevent/community-appreciation-day/
LOCATION:Maple Leaf Reservoir Park\, 1020 NE 82nd Street\, Seattle\, WA\, 98115
ORGANIZER;CN="ADWAS":MAILTO:adwas@adwas.org
END:VEVENT
BEGIN:VEVENT
DTSTART;VALUE=DATE:20210705
DTEND;VALUE=DATE:20210706
DTSTAMP:20260420T035955
CREATED:20210615T232833Z
LAST-MODIFIED:20210615T233105Z
UID:4024-1625443200-1625529599@www.adwas.org
SUMMARY:CLOSED
DESCRIPTION:We are closed on Monday\, July 5\, 2021 in observance of Independence Day. \nIf you are in need of assistance\, please contact the National Deaf Hotline. \nLocal: 206-812-1001\nNational: 855-812-1001
URL:https://www.adwas.org/adwasevent/closed-2/
ORGANIZER;CN="ADWAS":MAILTO:adwas@adwas.org
END:VEVENT
BEGIN:VEVENT
DTSTART;TZID=America/Los_Angeles:20210621T160000
DTEND;TZID=America/Los_Angeles:20210621T180000
DTSTAMP:20260420T035955
CREATED:20210615T234448Z
LAST-MODIFIED:20210615T234448Z
UID:4040-1624291200-1624298400@www.adwas.org
SUMMARY:Happy Pride Hour
DESCRIPTION:We want to learn from YOU!\nJoin us to chat about how we can improve services for LGBTQIA+ communities. \nVia Zoom\nMeeting ID: 759 823 6515 \nHosted in ASL\, please contact outreach@adwas.org for accessibility requests before June 14th. 
URL:https://www.adwas.org/adwasevent/happy-pride-hour/
LOCATION:Zoom
END:VEVENT
BEGIN:VEVENT
DTSTART;VALUE=DATE:20210618
DTEND;VALUE=DATE:20210619
DTSTAMP:20260420T035955
CREATED:20210615T232158Z
LAST-MODIFIED:20210615T233100Z
UID:4022-1623974400-1624060799@www.adwas.org
SUMMARY:CLOSED
DESCRIPTION:We are closed on Friday\, June 18\, 2021 in observance of Juneteenth. \nIf you are in need of assistance\, please contact the National Deaf Hotline. \nLocal: 206-812-1001\nNational: 855-812-1001
URL:https://www.adwas.org/adwasevent/closed/
ORGANIZER;CN="ADWAS":MAILTO:adwas@adwas.org
END:VEVENT
BEGIN:VEVENT
DTSTART;TZID=America/Los_Angeles:20210420T170000
DTEND;TZID=America/Los_Angeles:20210420T190000
DTSTAMP:20260420T035955
CREATED:20210325T180104Z
LAST-MODIFIED:20210402T204840Z
UID:3782-1618938000-1618945200@www.adwas.org
SUMMARY:Virtual Meet & Greet
DESCRIPTION:Come meet the new ADWAS Leadership! This is an open invitation to our community – we would love your ideas\, feedback\, and vision. \nThis will be a virtual meet & greet via Zoom.* Open your zoom application or visit https://zoom.us/join. \nMeeting ID: 879 2865 5795\nPassword: 265798 \nAny questions or accessibility needs\, email adwas@adwas.org. \n*We are hosting 2 Meet & Greets to accommodate differing schedules. You are welcome to join either one or both of the events. We look forward to meeting you virtually!
URL:https://www.adwas.org/adwasevent/virtual-meet-greet-2/
LOCATION:Zoom
ORGANIZER;CN="ADWAS":MAILTO:adwas@adwas.org
END:VEVENT
BEGIN:VEVENT
DTSTART;TZID=America/Los_Angeles:20210419T160000
DTEND;TZID=America/Los_Angeles:20210419T180000
DTSTAMP:20260420T035955
CREATED:20210325T175831Z
LAST-MODIFIED:20210402T204502Z
UID:3778-1618848000-1618855200@www.adwas.org
SUMMARY:Virtual Meet & Greet
DESCRIPTION:Come meet the new ADWAS Leadership! This is an open invitation to our community – we would love your ideas\, feedback\, and vision. \nThis will be a virtual meet & greet via Zoom.* Open your zoom application or visit https://zoom.us/join. \nMeeting ID: 879 2865 5795\nPassword: 265798 \nAny questions or accessibility needs\, email adwas@adwas.org. \n*We are hosting 2 Meet & Greets to accommodate differing schedules. You are welcome to join either one or both of the events. We look forward to meeting you virtually!
URL:https://www.adwas.org/adwasevent/virtual-meet-greet/
LOCATION:Zoom
ORGANIZER;CN="ADWAS":MAILTO:adwas@adwas.org
END:VEVENT
BEGIN:VEVENT
DTSTART;TZID=America/Los_Angeles:20201114T190000
DTEND;TZID=America/Los_Angeles:20201114T200000
DTSTAMP:20260420T035955
CREATED:20200922T235219Z
LAST-MODIFIED:20200922T235219Z
UID:2566-1605380400-1605384000@www.adwas.org
SUMMARY:Hope & Justice Gala
DESCRIPTION:Join ADWAS for an evening of Hope & Justice\, in the fight to end violence and oppression. The virtual event\, through Zoom\, is scheduled for Saturday\, November 14th\, 2020. The event will last from 7 PM – 8 PM (PST). There will also be a silent auction during the entire week leading up to the Hope & Justice Gala. Proceeds from the benefit will support the services at ADWAS. \nThis event is free to attend\, but donations are appreciated. Any amount will help cover technological costs. \nFor further information\, contact us at 206.922.7088 or adwas@adwas.org. \nCLICK HERE TO RSVP \n  \n[ID: Black background with orange freckled dots. Orange and brown flowers are on the right side. From the top\, text reads “Join ADWAS for an evening of / Hope & Justice / Annual Gala” Underneath is the description “The Hope & Justice Gala will include a week-long silent auction\, followed by our scheduled / event which will include a live auction. Proceeds from the auction support survivors of / domestic violence and sexual assault through ADWAS’ services.” Underneath this are three columns of text. The first column says “WHEN” in orange with white text underneath “Saturday / November 14\, 2020 / 7 PM – 8 PM (PST)” The second column says “WHERE” in orange with white text underneath “Join us virtually\, / through Zoom. To get / the link\, please RSVP.” The third column says “HOW” in orange with white text underneath “Tickets are free.” Then in orange “To RSVP: / adwas.ejoinme.org/gala2020”]
URL:https://www.adwas.org/adwasevent/hope-justice-gala/
END:VEVENT
BEGIN:VEVENT
DTSTART;TZID=America/Los_Angeles:20200814T120000
DTEND;TZID=America/Los_Angeles:20200814T130000
DTSTAMP:20260420T035955
CREATED:20200611T225604Z
LAST-MODIFIED:20200611T225604Z
UID:3129-1597406400-1597410000@www.adwas.org
SUMMARY:Breakfast Fundraiser "Eat\, Drink\, and Be Giving (From Home)"
DESCRIPTION:Abused Deaf Women’s Advocacy Services has provided programs and services in the community for 34 years. Deaf and DeafBlind victims of domestic and sexual violence benefit from programs such as – therapy\, legal and systemic advocacy\, 24-hour National Deaf Domestic Violence Hotline\, positive parenting program\, children’s advocacy\, and supportive housing. \nThe virtual brunch is scheduled for August 14th Through Zoom platform. Proceeds from the upcoming benefit breakfast support ADWAS. (after registration\, a zoom link will be emailed to you). It will also be your chance to see Libby Stanley\, our Executive Director\, virtually before she leaves ADWAS. \nThe virtual brunch begins at 12 PM and is finished at 1 PM. There is no ticket fee charge\, though donations would be appreciated from the guests. \nRSVP is required for receiving zoom link. For further information\, contact Lore Ameloot\, 206.395.2233 or development@adwas.org. For accessibility accommodation requests\, please contact adwas@adwas.org
URL:https://www.adwas.org/adwasevent/breakfast-fundraiser-eat-drink-and-be-giving-from-home/
END:VEVENT
END:VCALENDAR